BEGIN:VCALENDAR
VERSION:2.0
PRODID:-//MJC de Pierre-Bénite - ECPv6.15.11//NONSGML v1.0//EN
CALSCALE:GREGORIAN
METHOD:PUBLISH
X-WR-CALNAME:MJC de Pierre-Bénite
X-ORIGINAL-URL:https://mjc-pierre-benite.fr
X-WR-CALDESC:Évènements pour MJC de Pierre-Bénite
REFRESH-INTERVAL;VALUE=DURATION:PT1H
X-Robots-Tag:noindex
X-PUBLISHED-TTL:PT1H
BEGIN:VTIMEZONE
TZID:Europe/Paris
BEGIN:DAYLIGHT
TZOFFSETFROM:+0100
TZOFFSETTO:+0200
TZNAME:CEST
DTSTART:20230326T010000
END:DAYLIGHT
BEGIN:STANDARD
TZOFFSETFROM:+0200
TZOFFSETTO:+0100
TZNAME:CET
DTSTART:20231029T010000
END:STANDARD
BEGIN:DAYLIGHT
TZOFFSETFROM:+0100
TZOFFSETTO:+0200
TZNAME:CEST
DTSTART:20240331T010000
END:DAYLIGHT
BEGIN:STANDARD
TZOFFSETFROM:+0200
TZOFFSETTO:+0100
TZNAME:CET
DTSTART:20241027T010000
END:STANDARD
BEGIN:DAYLIGHT
TZOFFSETFROM:+0100
TZOFFSETTO:+0200
TZNAME:CEST
DTSTART:20250330T010000
END:DAYLIGHT
BEGIN:STANDARD
TZOFFSETFROM:+0200
TZOFFSETTO:+0100
TZNAME:CET
DTSTART:20251026T010000
END:STANDARD
END:VTIMEZONE
BEGIN:VEVENT
DTSTART;TZID=Europe/Paris:20240923T080000
DTEND;TZID=Europe/Paris:20241031T170000
DTSTAMP:20260422T074105
CREATED:20240910T134655Z
LAST-MODIFIED:20240924T132807Z
UID:4807-1727078400-1730394000@mjc-pierre-benite.fr
SUMMARY:Inscription Accueil de loisirs
DESCRIPTION:Inscriptions accueil de loisirs\nLes inscriptions à l’accueil de loisirs démarrent le 10 juin. \nA partir de cette date vous pouvez venir inscrire vos enfants pour les vacances d’été à l’accueil de loisirs de la MJC Pierre-Bénite André Vial. \nATTENTION : La MJC ne fournit pas les repas du midi. Les enfants peuvent venir avec un repas froid ou un repas chaud à réchauffer (micro-ondes).\nLes gouters sont fournis. \nInscription sur les horaires d’accueil\, du lundi au vendredi de 16h30 à 19h. \nQu’est-ce qu’un accueil de loisirs ? \nAnciennement appelé « garderie »\, « centre aéré » ou « centre de vacances »\, un accueil de loisirs est un accueil collectif pour mineurs\, également appelé ACM.\nSon objectif principal est de proposer des activités éducatives\, récréatives et de loisirs aux enfants et aux jeunes\, tout en veillant à leur bien-être\, à leur sécurité et à leur développement en dehors du cadre familial. \nCes structures sont soumises à des réglementations spécifiques concernant l’encadrement\, la sécurité\, les normes d’hygiène\, etc.\nElles offrent aux enfants et aux jeunes l’opportunité de socialiser\, de se divertir\, de participer à des activités sportives\, culturelles\, artistiques\, éducatives et de vivre des expériences collectives enrichissantes. \nCes structures sont encadrées par des professionnels de l’animation et de la jeunesse (animateurs) qui veillent à la mise en place d’activités adaptées à l’âge et à leurs besoins.\nIls jouent un rôle essentiel dans l’épanouissement des enfants et des jeunes en leur offrant un cadre sécurisé\, stimulant et propice à l’apprentissage\, à la découverte de nouvelles activités et à la création de liens sociaux.
URL:https://mjc-pierre-benite.fr/event/inscription-acm/
LOCATION:MJC Pierre-Bénite André Vial\, 135 rue Ampère\, PIERRE-BÉNITE\, 69310
ATTACH;FMTTYPE=image/png:https://mjc-pierre-benite.fr/wp-content/uploads/a-la-mjc.png
END:VEVENT
BEGIN:VEVENT
DTSTART;TZID=Europe/Paris:20241007T080000
DTEND;TZID=Europe/Paris:20241011T170000
DTSTAMP:20260422T074105
CREATED:20240910T135359Z
LAST-MODIFIED:20240910T135359Z
UID:4818-1728288000-1728666000@mjc-pierre-benite.fr
SUMMARY:SCABAALA
DESCRIPTION:Plus de détails à venir
URL:https://mjc-pierre-benite.fr/event/scabaala/
END:VEVENT
END:VCALENDAR