BEGIN:VCALENDAR
VERSION:2.0
PRODID:-//MJC de Pierre-Bénite - ECPv6.15.11//NONSGML v1.0//EN
CALSCALE:GREGORIAN
METHOD:PUBLISH
X-WR-CALNAME:MJC de Pierre-Bénite
X-ORIGINAL-URL:https://mjc-pierre-benite.fr
X-WR-CALDESC:Évènements pour MJC de Pierre-Bénite
REFRESH-INTERVAL;VALUE=DURATION:PT1H
X-Robots-Tag:noindex
X-PUBLISHED-TTL:PT1H
BEGIN:VTIMEZONE
TZID:Europe/Paris
BEGIN:DAYLIGHT
TZOFFSETFROM:+0100
TZOFFSETTO:+0200
TZNAME:CEST
DTSTART:20240331T010000
END:DAYLIGHT
BEGIN:STANDARD
TZOFFSETFROM:+0200
TZOFFSETTO:+0100
TZNAME:CET
DTSTART:20241027T010000
END:STANDARD
BEGIN:DAYLIGHT
TZOFFSETFROM:+0100
TZOFFSETTO:+0200
TZNAME:CEST
DTSTART:20250330T010000
END:DAYLIGHT
BEGIN:STANDARD
TZOFFSETFROM:+0200
TZOFFSETTO:+0100
TZNAME:CET
DTSTART:20251026T010000
END:STANDARD
BEGIN:DAYLIGHT
TZOFFSETFROM:+0100
TZOFFSETTO:+0200
TZNAME:CEST
DTSTART:20260329T010000
END:DAYLIGHT
BEGIN:STANDARD
TZOFFSETFROM:+0200
TZOFFSETTO:+0100
TZNAME:CET
DTSTART:20261025T010000
END:STANDARD
END:VTIMEZONE
BEGIN:VEVENT
DTSTART;TZID=Europe/Paris:20250606T093000
DTEND;TZID=Europe/Paris:20250606T113000
DTSTAMP:20260421T183814
CREATED:20250428T152302Z
LAST-MODIFIED:20250428T152302Z
UID:5075-1749202200-1749209400@mjc-pierre-benite.fr
SUMMARY:Répare Café - Juin
DESCRIPTION:Répare Café à la MJC\nLe Répare Café vous permet d’apprendre à réparer vos petits objets électriques et électroniques avec des bénévoles
URL:https://mjc-pierre-benite.fr/event/repare-cafe-5/
ATTACH;FMTTYPE=image/png:https://mjc-pierre-benite.fr/wp-content/uploads/Taille-enfant-et-adulte-14.png
END:VEVENT
BEGIN:VEVENT
DTSTART;TZID=Europe/Paris:20250606T190000
DTEND;TZID=Europe/Paris:20250606T210000
DTSTAMP:20260421T183814
CREATED:20250429T082309Z
LAST-MODIFIED:20250429T082309Z
UID:5078-1749236400-1749243600@mjc-pierre-benite.fr
SUMMARY:Blind Test
DESCRIPTION:Vendredi Culturel : Blind Test \nPour ce Vendredi Culturel\, venez tester vos connaissances musicales des années 80. \nOuvert à toutes et tous – Entrée gratuite – Buvette
URL:https://mjc-pierre-benite.fr/event/blind-test/
ATTACH;FMTTYPE=image/png:https://mjc-pierre-benite.fr/wp-content/uploads/Taille-enfant-et-adulte-65.png
END:VEVENT
END:VCALENDAR