BEGIN:VCALENDAR
VERSION:2.0
PRODID:-//MJC de Pierre-Bénite - ECPv6.15.11//NONSGML v1.0//EN
CALSCALE:GREGORIAN
METHOD:PUBLISH
X-ORIGINAL-URL:https://mjc-pierre-benite.fr
X-WR-CALDESC:Évènements pour MJC de Pierre-Bénite
REFRESH-INTERVAL;VALUE=DURATION:PT1H
X-Robots-Tag:noindex
X-PUBLISHED-TTL:PT1H
BEGIN:VTIMEZONE
TZID:Europe/Paris
BEGIN:DAYLIGHT
TZOFFSETFROM:+0100
TZOFFSETTO:+0200
TZNAME:CEST
DTSTART:20240331T010000
END:DAYLIGHT
BEGIN:STANDARD
TZOFFSETFROM:+0200
TZOFFSETTO:+0100
TZNAME:CET
DTSTART:20241027T010000
END:STANDARD
BEGIN:DAYLIGHT
TZOFFSETFROM:+0100
TZOFFSETTO:+0200
TZNAME:CEST
DTSTART:20250330T010000
END:DAYLIGHT
BEGIN:STANDARD
TZOFFSETFROM:+0200
TZOFFSETTO:+0100
TZNAME:CET
DTSTART:20251026T010000
END:STANDARD
BEGIN:DAYLIGHT
TZOFFSETFROM:+0100
TZOFFSETTO:+0200
TZNAME:CEST
DTSTART:20260329T010000
END:DAYLIGHT
BEGIN:STANDARD
TZOFFSETFROM:+0200
TZOFFSETTO:+0100
TZNAME:CET
DTSTART:20261025T010000
END:STANDARD
END:VTIMEZONE
BEGIN:VEVENT
DTSTART;TZID=Europe/Paris:20250117T190000
DTEND;TZID=Europe/Paris:20250117T213000
DTSTAMP:20260422T132523
CREATED:20241212T162455Z
LAST-MODIFIED:20241212T162455Z
UID:4914-1737140400-1737149400@mjc-pierre-benite.fr
SUMMARY:Soirée d'inauguration - Festival Agitons nos idées
DESCRIPTION:Soirée d’inauguration – Festival Agitons nos idées\nPour cette soirée d’ouverture\, nous vous entraînons dans les prémices des conférences gesticulées. Nous vous inviterons à monter sur scène pour nous raconter « le jour où … » et ainsi vous initier à l’écoute et au partage des récits de vie\, base des conférences gesticulées. Retrouvez tout le programme du festival ici. \nAvec les Tumulteuses\, association participant à la lutte contre les rapports d’oppressions par ses formations et ses accompagnements. \nOuvert aux à toutes et tous.\nEntrée libre – Parking – Buffet offert.
URL:https://mjc-pierre-benite.fr/event/soiree-dinauguration-festival-agitons-nos-idees/
LOCATION:MJC Pierre-Bénite André Vial\, 135 rue Ampère\, PIERRE-BÉNITE\, 69310
CATEGORIES:Apéro Citoyen
ATTACH;FMTTYPE=image/png:https://mjc-pierre-benite.fr/wp-content/uploads/Taille-enfant-et-adulte-29.png
END:VEVENT
END:VCALENDAR