BEGIN:VCALENDAR
VERSION:2.0
PRODID:-//MJC de Pierre-Bénite - ECPv6.15.11//NONSGML v1.0//EN
CALSCALE:GREGORIAN
METHOD:PUBLISH
X-WR-CALNAME:MJC de Pierre-Bénite
X-ORIGINAL-URL:https://mjc-pierre-benite.fr
X-WR-CALDESC:Évènements pour MJC de Pierre-Bénite
REFRESH-INTERVAL;VALUE=DURATION:PT1H
X-Robots-Tag:noindex
X-PUBLISHED-TTL:PT1H
BEGIN:VTIMEZONE
TZID:Europe/Paris
BEGIN:DAYLIGHT
TZOFFSETFROM:+0100
TZOFFSETTO:+0200
TZNAME:CEST
DTSTART:20240331T010000
END:DAYLIGHT
BEGIN:STANDARD
TZOFFSETFROM:+0200
TZOFFSETTO:+0100
TZNAME:CET
DTSTART:20241027T010000
END:STANDARD
BEGIN:DAYLIGHT
TZOFFSETFROM:+0100
TZOFFSETTO:+0200
TZNAME:CEST
DTSTART:20250330T010000
END:DAYLIGHT
BEGIN:STANDARD
TZOFFSETFROM:+0200
TZOFFSETTO:+0100
TZNAME:CET
DTSTART:20251026T010000
END:STANDARD
BEGIN:DAYLIGHT
TZOFFSETFROM:+0100
TZOFFSETTO:+0200
TZNAME:CEST
DTSTART:20260329T010000
END:DAYLIGHT
BEGIN:STANDARD
TZOFFSETFROM:+0200
TZOFFSETTO:+0100
TZNAME:CET
DTSTART:20261025T010000
END:STANDARD
END:VTIMEZONE
BEGIN:VEVENT
DTSTART;TZID=Europe/Paris:20250411T153000
DTEND;TZID=Europe/Paris:20250411T170000
DTSTAMP:20260420T043523
CREATED:20250306T134328Z
LAST-MODIFIED:20250306T134328Z
UID:5012-1744385400-1744390800@mjc-pierre-benite.fr
SUMMARY:Café Seniors
DESCRIPTION:Café Seniors : Fabrication de chocolats\nRendez-vous pour un Café Seniors où vous fabriquerez de délicieux chocolats ! \nOuvert aux personnes retraitées  \nAdhésion obligatoire
URL:https://mjc-pierre-benite.fr/event/cafe-seniors-8/
CATEGORIES:Café Seniors
ATTACH;FMTTYPE=image/png:https://mjc-pierre-benite.fr/wp-content/uploads/Taille-enfant-et-adulte-62.png
END:VEVENT
END:VCALENDAR