BEGIN:VCALENDAR
VERSION:2.0
PRODID:-//MJC de Pierre-Bénite - ECPv6.15.11//NONSGML v1.0//EN
CALSCALE:GREGORIAN
METHOD:PUBLISH
X-ORIGINAL-URL:https://mjc-pierre-benite.fr
X-WR-CALDESC:Évènements pour MJC de Pierre-Bénite
REFRESH-INTERVAL;VALUE=DURATION:PT1H
X-Robots-Tag:noindex
X-PUBLISHED-TTL:PT1H
BEGIN:VTIMEZONE
TZID:Europe/Paris
BEGIN:DAYLIGHT
TZOFFSETFROM:+0100
TZOFFSETTO:+0200
TZNAME:CEST
DTSTART:20220327T010000
END:DAYLIGHT
BEGIN:STANDARD
TZOFFSETFROM:+0200
TZOFFSETTO:+0100
TZNAME:CET
DTSTART:20221030T010000
END:STANDARD
BEGIN:DAYLIGHT
TZOFFSETFROM:+0100
TZOFFSETTO:+0200
TZNAME:CEST
DTSTART:20230326T010000
END:DAYLIGHT
BEGIN:STANDARD
TZOFFSETFROM:+0200
TZOFFSETTO:+0100
TZNAME:CET
DTSTART:20231029T010000
END:STANDARD
BEGIN:DAYLIGHT
TZOFFSETFROM:+0100
TZOFFSETTO:+0200
TZNAME:CEST
DTSTART:20240331T010000
END:DAYLIGHT
BEGIN:STANDARD
TZOFFSETFROM:+0200
TZOFFSETTO:+0100
TZNAME:CET
DTSTART:20241027T010000
END:STANDARD
END:VTIMEZONE
BEGIN:VEVENT
DTSTART;TZID=Europe/Paris:20231124T153000
DTEND;TZID=Europe/Paris:20231124T170000
DTSTAMP:20260422T022930
CREATED:20231019T151406Z
LAST-MODIFIED:20231027T145859Z
UID:3798-1700839800-1700845200@mjc-pierre-benite.fr
SUMMARY:Café Seniors
DESCRIPTION:Fabrication d’un calendrier de l’avent\nCe café seniors sera l’occasion de fabriquer votre propre calendrier de l’avent selon plusieurs modèles. \nRéservé aux adhérent.e.s retraité.e.s
URL:https://mjc-pierre-benite.fr/event/cafe-seniors/
LOCATION:MJC Pierre-Bénite André Vial\, 135 rue Ampère\, PIERRE-BÉNITE\, 69310
CATEGORIES:Café/Sortie Seniors
ATTACH;FMTTYPE=image/png:https://mjc-pierre-benite.fr/wp-content/uploads/Semaine-du-Coup-A-Boire-Avant-ou-Apres-LActivite-19.png
END:VEVENT
END:VCALENDAR