BEGIN:VCALENDAR
VERSION:2.0
PRODID:-//MJC de Pierre-Bénite - ECPv6.15.11//NONSGML v1.0//EN
CALSCALE:GREGORIAN
METHOD:PUBLISH
X-WR-CALNAME:MJC de Pierre-Bénite
X-ORIGINAL-URL:https://mjc-pierre-benite.fr
X-WR-CALDESC:Évènements pour MJC de Pierre-Bénite
REFRESH-INTERVAL;VALUE=DURATION:PT1H
X-Robots-Tag:noindex
X-PUBLISHED-TTL:PT1H
BEGIN:VTIMEZONE
TZID:Europe/Paris
BEGIN:DAYLIGHT
TZOFFSETFROM:+0100
TZOFFSETTO:+0200
TZNAME:CEST
DTSTART:20220327T010000
END:DAYLIGHT
BEGIN:STANDARD
TZOFFSETFROM:+0200
TZOFFSETTO:+0100
TZNAME:CET
DTSTART:20221030T010000
END:STANDARD
BEGIN:DAYLIGHT
TZOFFSETFROM:+0100
TZOFFSETTO:+0200
TZNAME:CEST
DTSTART:20230326T010000
END:DAYLIGHT
BEGIN:STANDARD
TZOFFSETFROM:+0200
TZOFFSETTO:+0100
TZNAME:CET
DTSTART:20231029T010000
END:STANDARD
BEGIN:DAYLIGHT
TZOFFSETFROM:+0100
TZOFFSETTO:+0200
TZNAME:CEST
DTSTART:20240331T010000
END:DAYLIGHT
BEGIN:STANDARD
TZOFFSETFROM:+0200
TZOFFSETTO:+0100
TZNAME:CET
DTSTART:20241027T010000
END:STANDARD
END:VTIMEZONE
BEGIN:VEVENT
DTSTART;TZID=Europe/Paris:20231222T153000
DTEND;TZID=Europe/Paris:20231222T170000
DTSTAMP:20260422T023946
CREATED:20231020T140538Z
LAST-MODIFIED:20231108T133332Z
UID:3804-1703259000-1703264400@mjc-pierre-benite.fr
SUMMARY:Café Seniors
DESCRIPTION:Fabrication de décorations de Noël et cartes de vœux\nPour ce café seniors\, vous fabriquer vos propres décorations de Noël et des cartes de vœux pour vos proches. \nRéservé aux adhérent.e.s retraité.e.s
URL:https://mjc-pierre-benite.fr/event/cafe-seniors-2/
CATEGORIES:Café/Sortie Seniors
ATTACH;FMTTYPE=image/png:https://mjc-pierre-benite.fr/wp-content/uploads/Cafe-seniors-dec-1.png
END:VEVENT
END:VCALENDAR