BEGIN:VCALENDAR
VERSION:2.0
PRODID:-//MJC de Pierre-Bénite - ECPv6.15.11//NONSGML v1.0//EN
CALSCALE:GREGORIAN
METHOD:PUBLISH
X-WR-CALNAME:MJC de Pierre-Bénite
X-ORIGINAL-URL:https://mjc-pierre-benite.fr
X-WR-CALDESC:Évènements pour MJC de Pierre-Bénite
REFRESH-INTERVAL;VALUE=DURATION:PT1H
X-Robots-Tag:noindex
X-PUBLISHED-TTL:PT1H
BEGIN:VTIMEZONE
TZID:Europe/Paris
BEGIN:DAYLIGHT
TZOFFSETFROM:+0100
TZOFFSETTO:+0200
TZNAME:CEST
DTSTART:20230326T010000
END:DAYLIGHT
BEGIN:STANDARD
TZOFFSETFROM:+0200
TZOFFSETTO:+0100
TZNAME:CET
DTSTART:20231029T010000
END:STANDARD
BEGIN:DAYLIGHT
TZOFFSETFROM:+0100
TZOFFSETTO:+0200
TZNAME:CEST
DTSTART:20240331T010000
END:DAYLIGHT
BEGIN:STANDARD
TZOFFSETFROM:+0200
TZOFFSETTO:+0100
TZNAME:CET
DTSTART:20241027T010000
END:STANDARD
BEGIN:DAYLIGHT
TZOFFSETFROM:+0100
TZOFFSETTO:+0200
TZNAME:CEST
DTSTART:20250330T010000
END:DAYLIGHT
BEGIN:STANDARD
TZOFFSETFROM:+0200
TZOFFSETTO:+0100
TZNAME:CET
DTSTART:20251026T010000
END:STANDARD
END:VTIMEZONE
BEGIN:VEVENT
DTSTART;TZID=Europe/Paris:20240408T133000
DTEND;TZID=Europe/Paris:20240408T163000
DTSTAMP:20260421T154121
CREATED:20240220T170156Z
LAST-MODIFIED:20240220T170156Z
UID:4293-1712583000-1712593800@mjc-pierre-benite.fr
SUMMARY:Sortie Seniors - Rando
DESCRIPTION:Sortie Seniors : rando à la Ferme au Loup\nPour cette sortie seniors\, partez en randonnée à Vernaison pour découvrir\, avec une guide\, la Ferme au Loup. \nDépart : 13h30 pour le covoiturage\nRetour : 16h30\nNiveau facile\, accessible aux débutants. \nGratuit\, sur inscription\nRéservée aux personnes retraitées
URL:https://mjc-pierre-benite.fr/event/sortie-seniors-rando/
CATEGORIES:Café/Sortie Seniors
ATTACH;FMTTYPE=image/png:https://mjc-pierre-benite.fr/wp-content/uploads/Visuels-Agenda-13.png
END:VEVENT
END:VCALENDAR