BEGIN:VCALENDAR
VERSION:2.0
PRODID:-//MJC de Pierre-Bénite - ECPv6.15.11//NONSGML v1.0//EN
CALSCALE:GREGORIAN
METHOD:PUBLISH
X-ORIGINAL-URL:https://mjc-pierre-benite.fr
X-WR-CALDESC:Évènements pour MJC de Pierre-Bénite
REFRESH-INTERVAL;VALUE=DURATION:PT1H
X-Robots-Tag:noindex
X-PUBLISHED-TTL:PT1H
BEGIN:VTIMEZONE
TZID:Europe/Paris
BEGIN:DAYLIGHT
TZOFFSETFROM:+0100
TZOFFSETTO:+0200
TZNAME:CEST
DTSTART:20230326T010000
END:DAYLIGHT
BEGIN:STANDARD
TZOFFSETFROM:+0200
TZOFFSETTO:+0100
TZNAME:CET
DTSTART:20231029T010000
END:STANDARD
BEGIN:DAYLIGHT
TZOFFSETFROM:+0100
TZOFFSETTO:+0200
TZNAME:CEST
DTSTART:20240331T010000
END:DAYLIGHT
BEGIN:STANDARD
TZOFFSETFROM:+0200
TZOFFSETTO:+0100
TZNAME:CET
DTSTART:20241027T010000
END:STANDARD
BEGIN:DAYLIGHT
TZOFFSETFROM:+0100
TZOFFSETTO:+0200
TZNAME:CEST
DTSTART:20250330T010000
END:DAYLIGHT
BEGIN:STANDARD
TZOFFSETFROM:+0200
TZOFFSETTO:+0100
TZNAME:CET
DTSTART:20251026T010000
END:STANDARD
END:VTIMEZONE
BEGIN:VEVENT
DTSTART;TZID=Europe/Paris:20240525T153000
DTEND;TZID=Europe/Paris:20240525T193000
DTSTAMP:20260423T033347
CREATED:20240426T130436Z
LAST-MODIFIED:20240426T132229Z
UID:4353-1716651000-1716665400@mjc-pierre-benite.fr
SUMMARY:Familles en fête
DESCRIPTION:Familles en fête\nPour cette édition 2024 de Familles en fête\, retrouvez la MJC au Parc Manillier !  \nAu programme :\nStands divers\nBuvette\nChâteau gonflable\nPalette mobile\n16h : Spectacle de cirque de la compagnie Mémoire de moules\n18h30 : Concert de Piotki (https://www.facebook.com/Piotki/?locale=fr_FR )\n… \nOuvert à toutes et tous
URL:https://mjc-pierre-benite.fr/event/familles-en-fete/
LOCATION:Parc Manillier\, Parc Manillier\, PIERRE-BÉNITE\, 69310
CATEGORIES:Evènement
ATTACH;FMTTYPE=image/png:https://mjc-pierre-benite.fr/wp-content/uploads/Copie-de-Infolettre-mars-avril-8.png
END:VEVENT
END:VCALENDAR