BEGIN:VCALENDAR
VERSION:2.0
PRODID:-//MJC de Pierre-Bénite - ECPv6.15.11//NONSGML v1.0//EN
CALSCALE:GREGORIAN
METHOD:PUBLISH
X-WR-CALNAME:MJC de Pierre-Bénite
X-ORIGINAL-URL:https://mjc-pierre-benite.fr
X-WR-CALDESC:Évènements pour MJC de Pierre-Bénite
REFRESH-INTERVAL;VALUE=DURATION:PT1H
X-Robots-Tag:noindex
X-PUBLISHED-TTL:PT1H
BEGIN:VTIMEZONE
TZID:Europe/Paris
BEGIN:DAYLIGHT
TZOFFSETFROM:+0100
TZOFFSETTO:+0200
TZNAME:CEST
DTSTART:20240331T010000
END:DAYLIGHT
BEGIN:STANDARD
TZOFFSETFROM:+0200
TZOFFSETTO:+0100
TZNAME:CET
DTSTART:20241027T010000
END:STANDARD
BEGIN:DAYLIGHT
TZOFFSETFROM:+0100
TZOFFSETTO:+0200
TZNAME:CEST
DTSTART:20250330T010000
END:DAYLIGHT
BEGIN:STANDARD
TZOFFSETFROM:+0200
TZOFFSETTO:+0100
TZNAME:CET
DTSTART:20251026T010000
END:STANDARD
BEGIN:DAYLIGHT
TZOFFSETFROM:+0100
TZOFFSETTO:+0200
TZNAME:CEST
DTSTART:20260329T010000
END:DAYLIGHT
BEGIN:STANDARD
TZOFFSETFROM:+0200
TZOFFSETTO:+0100
TZNAME:CET
DTSTART:20261025T010000
END:STANDARD
END:VTIMEZONE
BEGIN:VEVENT
DTSTART;TZID=Europe/Paris:20250207T190000
DTEND;TZID=Europe/Paris:20250207T210000
DTSTAMP:20260420T233450
CREATED:20241219T171413Z
LAST-MODIFIED:20241219T172550Z
UID:4938-1738954800-1738962000@mjc-pierre-benite.fr
SUMMARY:Vendredi Culturel - Danse
DESCRIPTION:Vendredi Culturel  – Danses\nUn vendredi culturel pendant lequel vous pourrez découvrir le rock\, la country\, la K Pop et vous initier au flamenco \nOuvert à toutes et tous\nEntrée gratuite\nBuvette
URL:https://mjc-pierre-benite.fr/event/vendredi-culturel-danse/
LOCATION:MJC Pierre-Bénite André Vial\, 135 rue Ampère\, PIERRE-BÉNITE\, 69310
CATEGORIES:Vendredis Culturels
ATTACH;FMTTYPE=image/png:https://mjc-pierre-benite.fr/wp-content/uploads/Taille-enfant-et-adulte-35.png
END:VEVENT
END:VCALENDAR