BEGIN:VCALENDAR
VERSION:2.0
PRODID:-//MJC de Pierre-Bénite - ECPv6.15.11//NONSGML v1.0//EN
CALSCALE:GREGORIAN
METHOD:PUBLISH
X-WR-CALNAME:MJC de Pierre-Bénite
X-ORIGINAL-URL:https://mjc-pierre-benite.fr
X-WR-CALDESC:Évènements pour MJC de Pierre-Bénite
REFRESH-INTERVAL;VALUE=DURATION:PT1H
X-Robots-Tag:noindex
X-PUBLISHED-TTL:PT1H
BEGIN:VTIMEZONE
TZID:Europe/Paris
BEGIN:DAYLIGHT
TZOFFSETFROM:+0100
TZOFFSETTO:+0200
TZNAME:CEST
DTSTART:20240331T010000
END:DAYLIGHT
BEGIN:STANDARD
TZOFFSETFROM:+0200
TZOFFSETTO:+0100
TZNAME:CET
DTSTART:20241027T010000
END:STANDARD
BEGIN:DAYLIGHT
TZOFFSETFROM:+0100
TZOFFSETTO:+0200
TZNAME:CEST
DTSTART:20250330T010000
END:DAYLIGHT
BEGIN:STANDARD
TZOFFSETFROM:+0200
TZOFFSETTO:+0100
TZNAME:CET
DTSTART:20251026T010000
END:STANDARD
BEGIN:DAYLIGHT
TZOFFSETFROM:+0100
TZOFFSETTO:+0200
TZNAME:CEST
DTSTART:20260329T010000
END:DAYLIGHT
BEGIN:STANDARD
TZOFFSETFROM:+0200
TZOFFSETTO:+0100
TZNAME:CET
DTSTART:20261025T010000
END:STANDARD
END:VTIMEZONE
BEGIN:VEVENT
DTSTART;TZID=Europe/Paris:20250310T110000
DTEND;TZID=Europe/Paris:20250310T153000
DTSTAMP:20260421T215048
CREATED:20250219T095235Z
LAST-MODIFIED:20250219T095235Z
UID:4975-1741604400-1741620600@mjc-pierre-benite.fr
SUMMARY:Sortie seniors
DESCRIPTION:Sortie Seniors – Restaurant et bowling\nPendant cette Sortie Seniors vous vous régalerez les papilles au restaurant pour ensuite vous défouler sur les pistes de bowling  ! \nRéservé aux personnes retraitées – Inscription obligatoire
URL:https://mjc-pierre-benite.fr/event/sortie-seniors-4/
CATEGORIES:Café/Sortie Seniors
ATTACH;FMTTYPE=image/png:https://mjc-pierre-benite.fr/wp-content/uploads/Taille-enfant-et-adulte-43.png
END:VEVENT
BEGIN:VEVENT
DTSTART;TZID=Europe/Paris:20250314T080000
DTEND;TZID=Europe/Paris:20250314T170000
DTSTAMP:20260421T215048
CREATED:20250219T095425Z
LAST-MODIFIED:20250219T095443Z
UID:4978-1741939200-1741971600@mjc-pierre-benite.fr
SUMMARY:Café Seniors - mars
DESCRIPTION:Café Seniors\nLe Café Seniors vous propose une conférence  sur les bandes originales de film. \n Réservé aux personnes retraitées – Entrée gratuite –  Adhésion obligatoire
URL:https://mjc-pierre-benite.fr/event/cafe-seniors-mars-2/
CATEGORIES:Café Seniors
ATTACH;FMTTYPE=image/png:https://mjc-pierre-benite.fr/wp-content/uploads/Taille-enfant-et-adulte-42.png
END:VEVENT
BEGIN:VEVENT
DTSTART;TZID=Europe/Paris:20250315T140000
DTEND;TZID=Europe/Paris:20250315T173000
DTSTAMP:20260421T215048
CREATED:20250219T111933Z
LAST-MODIFIED:20250306T140103Z
UID:4988-1742047200-1742059800@mjc-pierre-benite.fr
SUMMARY:Stage de magie
DESCRIPTION:Stage de magie – Close Up\nPour les 9/11 ans  : 14h-15h30 \nPour les 12/15 ans : 16h-17h30 \nTarif adhérent : 14€  \nnon adhérent : 18€ \nSur inscription\, dans la limite des places disponibles
URL:https://mjc-pierre-benite.fr/event/stage-de-magie-2/
CATEGORIES:Stage
ATTACH;FMTTYPE=image/png:https://mjc-pierre-benite.fr/wp-content/uploads/Taille-enfant-et-adulte-9.png
END:VEVENT
BEGIN:VEVENT
DTSTART;TZID=Europe/Paris:20250315T140000
DTEND;TZID=Europe/Paris:20250315T173000
DTSTAMP:20260421T215048
CREATED:20250304T133142Z
LAST-MODIFIED:20250304T133142Z
UID:4998-1742047200-1742059800@mjc-pierre-benite.fr
SUMMARY:Stage de magie
DESCRIPTION:Stage de magie enfant/ado\nStage de magie Close up \nPour les 9/11 ans  : 14h-15h30 \nPour les 12/15 ans : 16h-17h30 \nTarif adhérent : 14€  \nnon adhérent : 18€ \nSur inscription\, dans la limite des places disponibles
URL:https://mjc-pierre-benite.fr/event/stage-de-magie-3/
CATEGORIES:Stage
ATTACH;FMTTYPE=image/png:https://mjc-pierre-benite.fr/wp-content/uploads/Taille-enfant-et-adulte-9.png
END:VEVENT
BEGIN:VEVENT
DTSTART;TZID=Europe/Paris:20250321T183000
DTEND;TZID=Europe/Paris:20250321T210000
DTSTAMP:20260421T215048
CREATED:20250219T100610Z
LAST-MODIFIED:20250219T100610Z
UID:4982-1742581800-1742590800@mjc-pierre-benite.fr
SUMMARY:Soirée jeux - mars
DESCRIPTION:Soirée Jeux\nUne Soirée Jeux pendant laquelle vous pourrez venir (re)découvrir nos jeux et nous faire découvrir les vôtres ! \nOuverte à toutes et tous – Entrée gratuite – Buvette
URL:https://mjc-pierre-benite.fr/event/soiree-jeux-mars/
LOCATION:MJC Pierre-Bénite André Vial\, 135 rue Ampère\, PIERRE-BÉNITE\, 69310
CATEGORIES:Manifestation
ATTACH;FMTTYPE=image/png:https://mjc-pierre-benite.fr/wp-content/uploads/Taille-enfant-et-adulte-46.png
END:VEVENT
BEGIN:VEVENT
DTSTART;TZID=Europe/Paris:20250322T140000
DTEND;TZID=Europe/Paris:20250322T173000
DTSTAMP:20260421T215048
CREATED:20250219T112323Z
LAST-MODIFIED:20250303T144132Z
UID:4990-1742652000-1742664600@mjc-pierre-benite.fr
SUMMARY:Stage d'Arts Créatifs
DESCRIPTION:Stage d’Arts Créatifs\nPour les 6/10 ans : création de masque pour le carnaval – 14h-15h30 \nPour les adultes : kitchen litho – 16-17h30 \nTarif adhérent : 14€  \nnon adhérent : 18€ \nSur inscription\, dans la limite des places disponibles
URL:https://mjc-pierre-benite.fr/event/stage-darts-creatifs/
LOCATION:MJC Pierre-Bénite André Vial\, 135 rue Ampère\, PIERRE-BÉNITE\, 69310
CATEGORIES:Stage
ATTACH;FMTTYPE=image/png:https://mjc-pierre-benite.fr/wp-content/uploads/Taille-enfant-et-adulte-9.png
END:VEVENT
BEGIN:VEVENT
DTSTART;TZID=Europe/Paris:20250322T140000
DTEND;TZID=Europe/Paris:20250322T173000
DTSTAMP:20260421T215048
CREATED:20250304T133409Z
LAST-MODIFIED:20250304T133409Z
UID:5000-1742652000-1742664600@mjc-pierre-benite.fr
SUMMARY:Stage Arts Créatifs
DESCRIPTION:Stage d’Arts Créatifs\nStages d’arts créatifs \nPour les 6/10 ans : création de masque pour le carnaval – 14h-15h30 \nPour les adultes : kitchen litho – 16-17h30 \nTarif adhérent : 14€  \nnon adhérent : 18€ \nSur inscription\, dans la limite des places disponibles
URL:https://mjc-pierre-benite.fr/event/stage-arts-creatifs/
CATEGORIES:Stage
ATTACH;FMTTYPE=image/png:https://mjc-pierre-benite.fr/wp-content/uploads/Taille-enfant-et-adulte-9.png
END:VEVENT
BEGIN:VEVENT
DTSTART;TZID=Europe/Paris:20250322T210000
DTEND;TZID=Europe/Paris:20250323T010000
DTSTAMP:20260421T215048
CREATED:20250219T102654Z
LAST-MODIFIED:20250219T102654Z
UID:4985-1742677200-1742691600@mjc-pierre-benite.fr
SUMMARY:Soirée Rock
DESCRIPTION:Soirée Rock\nLa piste de danse du chalet  est à vous pour 4h à l’occasion de cette nouvelle édition de notre Soirée Rock !  \nBuvette sur place – PAF : 5€
URL:https://mjc-pierre-benite.fr/event/soiree-rock-2/
LOCATION:MJC Pierre-Bénite André Vial\, 135 rue Ampère\, PIERRE-BÉNITE\, 69310
CATEGORIES:Manifestation
ATTACH;FMTTYPE=image/png:https://mjc-pierre-benite.fr/wp-content/uploads/Taille-enfant-et-adulte-44.png
END:VEVENT
BEGIN:VEVENT
DTSTART;TZID=Europe/Paris:20250328T190000
DTEND;TZID=Europe/Paris:20250328T210000
DTSTAMP:20260421T215048
CREATED:20250303T150317Z
LAST-MODIFIED:20250303T150317Z
UID:4992-1743188400-1743195600@mjc-pierre-benite.fr
SUMMARY:Apéro Citoyen
DESCRIPTION:Apéro Citoyen – (S’)Intégrer\nPour cette dernière édition de la saison\, l’Apéro Citoyen retracera les différentes transformations de Pierre-Bénite : entre terres maraîchères\, industrialisation et cité dortoir !  \nApéro offert – Entrée gratuite – A partir de 16 ans
URL:https://mjc-pierre-benite.fr/event/apero-citoyen-5/
CATEGORIES:Apéro Citoyen
ATTACH;FMTTYPE=image/png:https://mjc-pierre-benite.fr/wp-content/uploads/Taille-enfant-et-adulte-45.png
END:VEVENT
BEGIN:VEVENT
DTSTART;TZID=Europe/Paris:20250329T140000
DTEND;TZID=Europe/Paris:20250329T170000
DTSTAMP:20260421T215048
CREATED:20250304T132923Z
LAST-MODIFIED:20250304T132924Z
UID:4995-1743256800-1743267600@mjc-pierre-benite.fr
SUMMARY:Carnaval
DESCRIPTION:Participation au Carnaval de la Ville\nRendez-vous à 14h à l’école pour défiler aux côtés de la MJC partenaire du Carnaval de la Ville. Le thème de cette année est « Les voyageurs du temps ».  \n 
URL:https://mjc-pierre-benite.fr/event/carnaval/
ATTACH;FMTTYPE=image/jpeg:https://mjc-pierre-benite.fr/wp-content/uploads/481173544_946995780944918_6639787121723057011_n.jpg
END:VEVENT
END:VCALENDAR